BEGIN:VCALENDAR
VERSION:2.0
PRODID:-//wp-events-plugin.com//7.2.3.1//EN
TZID:America/Los_Angeles
X-WR-TIMEZONE:America/Los_Angeles
BEGIN:VEVENT
UID:72@crtos.org
DTSTART;TZID=America/Los_Angeles:20230923T140000
DTEND;TZID=America/Los_Angeles:20230923T154500
DTSTAMP:20230907T032120Z
URL:https://www.crtos.org/events/clara-bow-in-it-1927/
SUMMARY:Clara Bow in IT (1927)
DESCRIPTION:\nSeptember 23rd\, 2023 - 2 pm\nThe Hollywood Theatre\n4122 NE 
 Sandy Blvd.\, Portland\, OR\n \n\nFeaturing Hollywood organist Dean Lemire
  at the Mighty Wurlitzer performing his original score.\n\n \n\nThis is IT
 .  The 1927 film sensation that rocketed the fabulous Clara Bow into a Ho
 llywood legend. She lights up the screen in this delightful and light-hear
 ted comedy. Critics praised the star and the film as “a joy to behold."\
 n\n \n\nAppropriately named “IT”... (the 1920’s word for sex appeal)
   Clara Bow defines the jazz era and was the quintessential definition of
  a flapper.\n\n \n\n“All the women wanted to be her and all the men want
 ed to be with her!"\n\n \n\nDon’t miss IT.\n\n \n\nWHEELCHAIR ACCESSIBLE
 : YES\nYEAR: 1927\nRUNTIME: 72 MINS\n\n \n\nPurchase Tickets at: https://h
 ollywoodtheatre.org/tickets/22928/\n\n
ATTACH;FMTTYPE=image/jpeg:https://i0.wp.com/www.crtos.org/wp-content/uploa
 ds/2023/09/Clara-Bow-IT.jpg?fit=1000%2C1576&ssl=1
CATEGORIES:Silent Movies
END:VEVENT
BEGIN:VTIMEZONE
TZID:America/Los_Angeles
X-LIC-LOCATION:America/Los_Angeles
BEGIN:DAYLIGHT
DTSTART:20230312T030000
TZOFFSETFROM:-0800
TZOFFSETTO:-0700
TZNAME:PDT
END:DAYLIGHT
END:VTIMEZONE
END:VCALENDAR