BEGIN:VCALENDAR
VERSION:2.0
PRODID:-//wp-events-plugin.com//7.2.3.1//EN
TZID:America/Los_Angeles
X-WR-TIMEZONE:America/Los_Angeles
BEGIN:VEVENT
UID:90@crtos.org
DTSTART;TZID=America/Los_Angeles:20260314T140000
DTEND;TZID=America/Los_Angeles:20260314T160000
DTSTAMP:20260308T041452Z
URL:https://www.crtos.org/events/last-chance-to-play-and-hear-the-clevelan
 d-high-school-kimball/
SUMMARY:Last Chance to Play and Hear the Cleveland High School Kimball
DESCRIPTION:Last Chance to Play and Hear the Cleveland High School Kimball 
 Pipe Organ\nSaturday\, March 14th\, 2026\nPrivate CRTOS Open Console 10am-
 12pm\nPublic Short Convert 2pm\nCleveland High School\n3400 SE 26th Ave.\,
  Portland\, Oregon 97202\nThose of you Portlanders who remember the Portla
 nd Organ Grinder restaurant will want to see and hear this event. This mar
 ks the last public performance on this instrument before it's removal.Port
 land's own Jonas Nordwall and young organist Sawyer Best will show off thi
 s great instrument.\n\n\n\n10am-12pm\n\nPrivate open console session for C
 olumbia River Theatre Organ Society members.\n\n2pm\n\nFREE public concert
  with Jonas Nordwall and special guest Sawyer Best\n\n\n\nThe Kimball pipe
  organ at Cleveland High school will be removed and stored on spring break
  this year 2026. Portland Public schools owns the organ and is covering th
 e cost of removal and storage. There are currently no solid plans for its 
 re-installation.\n\nhttps://www.kptv.com/2026/03/03/historic-theater-organ
 -cleveland-high-school-seeks-new-home-ahead-demolition/
ATTACH;FMTTYPE=image/jpeg:https://i0.wp.com/www.crtos.org/wp-content/uploa
 ds/2026/03/481262498_1040930521395327_908629335386028367_n-e1772942986433.
 jpg?fit=1693%2C1324&ssl=1
CATEGORIES:Meetings
LOCATION:Cleveland High School\, 3400 SE 26th Ave\, Portland\, Oregon\, 972
 02\, United States
X-APPLE-STRUCTURED-LOCATION;VALUE=URI;X-ADDRESS=3400 SE 26th Ave\, Portland
 \, Oregon\, 97202\, United States;X-APPLE-RADIUS=100;X-TITLE=Cleveland Hig
 h School:geo:0,0
END:VEVENT
BEGIN:VTIMEZONE
TZID:America/Los_Angeles
X-LIC-LOCATION:America/Los_Angeles
BEGIN:DAYLIGHT
DTSTART:20260308T030000
TZOFFSETFROM:-0800
TZOFFSETTO:-0700
TZNAME:PDT
END:DAYLIGHT
END:VTIMEZONE
END:VCALENDAR