BEGIN:VCALENDAR
VERSION:2.0
PRODID:-//wp-events-plugin.com//7.2.3.1//EN
TZID:America/Los_Angeles
X-WR-TIMEZONE:America/Los_Angeles
BEGIN:VEVENT
UID:89@crtos.org
DTSTART;TZID=America/Los_Angeles:20260328T140000
DTEND;TZID=America/Los_Angeles:20260328T160000
DTSTAMP:20260308T032628Z
URL:https://www.crtos.org/events/the-cameraman-1928/
SUMMARY:The Cameraman (1928)
DESCRIPTION:\nThe Cameraman (1928)\n \nSaturday\, March 28th\, 2026 - 2:00p
 m\n \nThe Hollywood Theatre\n4122 North East Sandy Portland\, OR 97212\n \
 n\nHollywood organist Dean Lemire will be performing his original score li
 ve on the Mighty Wurlitzer theatre pipe organ.\n\n \n\nBuster Keaton at hi
 s absolute best!   The Cameraman is a brilliant\, laugh-out-loud silent c
 omedy full of jaw-dropping stunts\, impeccable visual gags\, and Keaton’
 s legendary deadpan charm.\n\n \n\nAt the peak of his career\, this was th
 e last film “the great stoneface” would ever have complete artistic co
 ntrol over again.\n\n \n\nAfter becoming infatuated with a pretty office w
 orker for MGM Newsreels\, Buster trades in his tintype operation for a mov
 ie camera and sets out to impress the girl (and MGM) with his work. It's 
 pure comedy perfection from one of cinema’s greatest.\n\n \n\nWe will al
 so be screening a rare silent short.\n\n \n\nCome and experience this mast
 erpiece the way it was meant to be seen and "heard"...on our giant screen 
 and 30 ton Wurlitzer theatre organ! Only at the Hollywood Theatre!\n\n \n\
 nReviews:\n"The Cameraman is timeless. It stands as a testament to Buster 
 Keaton's Genius."\nRoger Ebert\n\n \n\nRotten Tomatoes:  Rated 100% Tomat
 oMeter / 93% Popcorn Meter (2\,500+ reviews)\nDirector: Directed by: Bust
 er Keaton and Edward Sedgwick\nRun time: 90 mins\nFormat: Digital\n\n \n
 \nPurchase Tickets at: The Hollywood Theatre\n\n
ATTACH;FMTTYPE=image/jpeg:https://i0.wp.com/www.crtos.org/wp-content/uploa
 ds/2026/03/The-Cameraman.jpg?fit=307%2C460&ssl=1
CATEGORIES:Silent Movies
LOCATION:The Hollywood Theatre\, 4122 NE Sandy Blvd\, Portland\, OR\, 97212
 \, United States
X-APPLE-STRUCTURED-LOCATION;VALUE=URI;X-ADDRESS=4122 NE Sandy Blvd\, Portla
 nd\, OR\, 97212\, United States;X-APPLE-RADIUS=100;X-TITLE=The Hollywood T
 heatre:geo:0,0
END:VEVENT
BEGIN:VTIMEZONE
TZID:America/Los_Angeles
X-LIC-LOCATION:America/Los_Angeles
BEGIN:DAYLIGHT
DTSTART:20260308T030000
TZOFFSETFROM:-0800
TZOFFSETTO:-0700
TZNAME:PDT
END:DAYLIGHT
END:VTIMEZONE
END:VCALENDAR