BEGIN:VCALENDAR
VERSION:2.0
PRODID:-//wp-events-plugin.com//7.2.3.1//EN
TZID:America/Los_Angeles
X-WR-TIMEZONE:America/Los_Angeles
BEGIN:VEVENT
UID:74@crtos.org
DTSTART;TZID=America/Los_Angeles:20231028T140000
DTEND;TZID=America/Los_Angeles:20231028T154500
DTSTAMP:20231009T224031Z
URL:https://www.crtos.org/events/the-phantom-of-the-opera-1925/
SUMMARY:The Phantom of the Opera (1925)
DESCRIPTION:\nSaturday\, October 28th\, 2023 - 2:00 pm\nThe Hollywood Theat
 re 4122 NE Sandy Blvd.\, Portland\, OR\nThe original masterpiece of horror
  that shocked cinema for decades! Starring “The Man of 1000 Faces\," Lo
 n Chaney with Mary Philbin. \n\n At the Opera of Paris\, a mysterious phan
 tom haunts a famous lyric singer\, Carlotta\, and thus forces her to give 
 up her role (Marguerite in Faust) for unknown Christine Daae. Organist Mar
 tin Ellis will be performing his original score live on the Wurlitzer pipe
  organ. \n\n WHEELCHAIR ACCESSIBLE: YES \n\n FORMAT: DIGITAL \n\n RUNTIME:
  90 MINS \n\n Purchase Tickets at: https://hollywoodtheatre.org/tickets/23
 267/\n\n\n\nIf the direct ticket link above does not work for you\, go to 
 the Hollywood Theatre Splash Page and click on the 2:00 Showtime on the ri
 ght.\n
ATTACH;FMTTYPE=image/jpeg:https://i0.wp.com/www.crtos.org/wp-content/uploa
 ds/2021/10/phantom.jpg?fit=915%2C610&ssl=1
CATEGORIES:Silent Movies
LOCATION:The Hollywood Theatre\, 4122 NE Sandy Blvd.\, Portland\, OR\, 9721
 2\, United States
X-APPLE-STRUCTURED-LOCATION;VALUE=URI;X-ADDRESS=4122 NE Sandy Blvd.\, Portl
 and\, OR\, 97212\, United States;X-APPLE-RADIUS=100;X-TITLE=The Hollywood 
 Theatre:geo:0,0
END:VEVENT
BEGIN:VTIMEZONE
TZID:America/Los_Angeles
X-LIC-LOCATION:America/Los_Angeles
BEGIN:DAYLIGHT
DTSTART:20230312T030000
TZOFFSETFROM:-0800
TZOFFSETTO:-0700
TZNAME:PDT
END:DAYLIGHT
END:VTIMEZONE
END:VCALENDAR